BEGIN:VCALENDAR
VERSION:2.0
PRODID:Events Booking
BEGIN:VEVENT
UID:69e6c3152d556
SUMMARY:Österreichischen Weiß- und Rotweine
DESCRIPTION:Tischpräsentation von verschiedenen Weingüter und wir können
  deren Weine verkosten.
LOCATION:Eiswerkstraße 20\, 1220 Wien
DTSTART:20260623T153000Z
DTEND:20260623T200000Z
DTSTAMP:20251130T162334Z
ORGANIZER;CN=Weinclub Bacchus Team:MAILTO:office@weinclub-bacchus.at
GEO:48.232947;16.425374
X-APPLE-STRUCTURED-LOCATION;VALUE=URI;X-ADDRESS=Eiswerkstraße 20\, 1220 Wi
 en;X-APPLE-RADIUS=72;X-TITLE=UniCredit Center am Kaiserwasser GmbH:48.2329
 47;16.425374
END:VEVENT
END:VCALENDAR